BEGIN:VCALENDAR
VERSION:2.0
PRODID:-//Tukios.com/
BEGIN:VEVENT
UID:ebb80389-2d97-42da-8ec3-f4da87e00d9e@www.barkerfuneral.com
DTSTAMP:20260420T023140Z
DTSTART:20260423T150000Z
DTEND:20260423T160000Z
SUMMARY:Funeral Service
DESCRIPTION:
URL:https://www.barkerfuneral.com/obituaries/jerry-moody
LOCATION: 857 Highway 62 W P.O. Box 783  Salem AR 72576
GEO:36.3691579;-91.8298636
END:VEVENT
END:VCALENDAR